Workbook

Sheet Instructions
A1: General overview and instructions on how to use the workbook - Updated @ 22 March 2026
A2: This workbook is designed to assist with calculation of percentages based results for Multi Class Cross Country events. The results are calculated using the Athletics Australia Baseline Scoring tables. There are two ways to do Multi Class Event calculations - Simple or Detailed (the event/user can decide which suits their requirements)
A3: 1. Simple - Type each run time into the worksheet for each classification and record result manually on paper
A4: 2. Detailed - Can be used for multiple events to calculate and keep results.
A6: Things to note:
A7: Watch instructions video on how to use this workbook for Multi Class Calculations:
A8: https://watch.screencastify.com/v/G5QCn3DcXuwGeQQTRtHB
A9: The format for entering run time is minutes, seconds, hundredths of seconds i.e. 10 minutes and 24 seconds would be entered as 10:24.00
A10: Some worksheet are hidden and there are some protected cells that cannot be selected by the user. These protected cells are to protect the formulas used in the reference tables (i.e. baseline data) and for lookup for the results calculations
A11: Percentage Score Formula - The points are calculated using a percentage of the base time. For Cross Country Run Time (T) and the Base (Baseline) performance time (B) in minutes, seconds, hundredth of seconds, the percentage is calculated with the following formula. Points = (B / T) * 100
A12: This workbook aligns to Cross Country rules. Please reference:
A13: NSWPSSA Cross Country
A14: NSW All Schools

Sheet Age divisions & levels
A1: Age Divisions | B1: Level | C1: Distance
A2: 8-9 Yrs | B2: Primary | C2: 2km
A3: 10 Yrs | B3: Primary | C3: 2km
A4: 11 Yrs | B4: Primary | C4: 2km
A5: 12-13 Yrs | B5: Primary | C5: 2km
A7: 12-14 Yrs | B7: Secondary | C7: 3km
A8: 15-16 yrs | B8: Secondary | C8: 3km
A9: 17-19 yrs | B9: Secondary | C9: 3km

Sheet Boys Calculations (Simple)
A1: Gender | B1: Class | C1: Baseline | D1: Runtime mm:ss.00 example - 10:21.00 | E1: Percentage | F1: School / Team / Area
A2: Boys | B2: T01 | C2: 0.0026364583 | E2: =SUM(C2/D2) -> #DIV/0!
A3: Boys | B3: T11 | C3: 0.002758912 | E3: =SUM(C3/D3) -> #DIV/0!
A4: Boys | B4: T12 | C4: 0.0025618056 | E4: =SUM(C4/D4) -> #DIV/0!
A5: Boys | B5: T13 | C5: 0.0026422454 | E5: =SUM(C5/D5) -> #DIV/0!
A6: Boys | B6: T20 | C6: 0.0026099537 | E6: =SUM(C6/D6) -> #DIV/0!
A7: Boys | B7: T21 | C7: 0.0038581019 | E7: =SUM(C7/D7) -> #DIV/0!
A8: Boys | B8: T35 | C8: 0.0034170139 | E8: =SUM(C8/D8) -> #DIV/0!
A9: Boys | B9: T36 | C9: 0.0031584491 | E9: =SUM(C9/D9) -> #DIV/0!
A10: Boys | B10: T37 | C10: 0.0027724537 | E10: =SUM(C10/D10) -> #DIV/0!
A11: Boys | B11: T38 | C11: 0.0026376157 | E11: =SUM(C11/D11) -> #DIV/0!
A12: Boys | B12: T40 | C12: 0.0049884259 | E12: =SUM(C12/D12) -> #DIV/0!
A13: Boys | B13: T41 | C13: 0.0053125 | E13: =SUM(C13/D13) -> #DIV/0!
... A23: Boys | B23: ii-3 | C23: 0.0025034722 | E23: =SUM(C23/D23) -> #DIV/0!

Sheet Girls Calculations (Simple)
A1: Gender | B1: Class | C1: Baseline | D1: Runtime mm:ss.00 example - 10:21.00 | E1: Percentage | F1: School / Team / Area
A2: Girls | B2: T01 | C2: 0.0030700231 | E2: =SUM(C2/D2) -> #DIV/0!
A3: Girls | B3: T11 | C3: 0.0032282407 | E3: =SUM(C3/D3) -> #DIV/0!
A4: Girls | B4: T12 | C4: 0.003 | E4: =SUM(C4/D4) -> #DIV/0!
A5: Girls | B5: T13 | C5: 0.0028387731 | E5: =SUM(C5/D5) -> #DIV/0!
A6: Girls | B6: T20 | C6: 0.0030482639 | E6: =SUM(C6/D6) -> #DIV/0!
A7: Girls | B7: T21 | C7: 0.005740162 | E7: =SUM(C7/D7) -> #DIV/0!
A8: Girls | B8: T35 | C8: 0.0053710648 | E8: =SUM(C8/D8) -> #DIV/0!
A9: Girls | B9: T36 | C9: 0.0040579861 | E9: =SUM(C9/D9) -> #DIV/0!
A10: Girls | B10: T37 | C10: 0.0039365741 | E10: =SUM(C10/D10) -> #DIV/0!
A11: Girls | B11: T38 | C11: 0.0038021991 | E11: =SUM(C11/D11) -> #DIV/0!
A12: Girls | B12: T40 | C12: 0.0065046296 | E12: =SUM(C12/D12) -> #DIV/0!
A13: Girls | B13: T41 | C13: 0.0065046296 | E13: =SUM(C13/D13) -> #DIV/0!
... A23: Girls | B23: ii-3 | C23: 0.0027790509 | E23: =SUM(C23/D23) -> #DIV/0!

Sheet Boys Calculations (Detailed)
A1: Gender | B1: Age Division | C1: Class | D1: Baseline | E1: Runtime mm:ss.00 example - 10:21.00 | F1: Percentage | G1: Place | H1: First Name | I1: Surname | J1: School / Team / Area
A2: Boys | D2: =VLOOKUP(C2,'Boys Baseline Data'!$A$2:$B$23,2,FALSE) -> #N/A | F2: =SUM(D2/E2) -> #N/A
A3: Boys | D3: =VLOOKUP(C3,'Boys Baseline Data'!$A$2:$B$23,2,FALSE) -> #N/A | F3: =SUM(D3/E3) -> #N/A
A4: Boys | D4: =VLOOKUP(C4,'Boys Baseline Data'!$A$2:$B$23,2,FALSE) -> #N/A | F4: =SUM(D4/E4) -> #N/A
A5: Boys | D5: =VLOOKUP(C5,'Boys Baseline Data'!$A$2:$B$23,2,FALSE) -> #N/A | F5: =SUM(D5/E5) -> #N/A
A6: Boys | D6: =VLOOKUP(C6,'Boys Baseline Data'!$A$2:$B$23,2,FALSE) -> #N/A | F6: =SUM(D6/E6) -> #N/A
A7: Boys | D7: =VLOOKUP(C7,'Boys Baseline Data'!$A$2:$B$23,2,FALSE) -> #N/A | F7: =SUM(D7/E7) -> #N/A
A8: Boys | D8: =VLOOKUP(C8,'Boys Baseline Data'!$A$2:$B$23,2,FALSE) -> #N/A | F8: =SUM(D8/E8) -> #N/A
A9: Boys | D9: =VLOOKUP(C9,'Boys Baseline Data'!$A$2:$B$23,2,FALSE) -> #N/A | F9: =SUM(D9/E9) -> #N/A
A10: Boys | D10: =VLOOKUP(C10,'Boys Baseline Data'!$A$2:$B$23,2,FALSE) -> #N/A | F10: =SUM(D10/E10) -> #N/A
A11: Boys | D11: =VLOOKUP(C11,'Boys Baseline Data'!$A$2:$B$23,2,FALSE) -> #N/A | F11: =SUM(D11/E11) -> #N/A
A12: Boys | D12: =VLOOKUP(C12,'Boys Baseline Data'!$A$2:$B$23,2,FALSE) -> #N/A | F12: =SUM(D12/E12) -> #N/A
A13: Boys | D13: =VLOOKUP(C13,'Boys Baseline Data'!$A$2:$B$23,2,FALSE) -> #N/A | F13: =SUM(D13/E13) -> #N/A
... A200: Boys | D200: =VLOOKUP(C200,'Boys Baseline Data'!$A$2:$B$23,2,FALSE) -> #N/A | F200: =SUM(D200/E200) -> #N/A

Sheet Girls Calculations (Detailed)
A1: Gender | B1: Age Division | C1: Class | D1: Baseline | E1: Runtime mm:ss.00 example - 10:21.00 | F1: Percentage | G1: Place | H1: First Name | I1: Surname | J1: School / Team / Area
A2: Girls | D2: =VLOOKUP(C2,'Girls Baseline Data'!$A$1:$B$23,2,FALSE) -> #N/A | F2: =SUM(D2/E2) -> #N/A
A3: Girls | D3: =VLOOKUP(C3,'Girls Baseline Data'!$A$1:$B$23,2,FALSE) -> #N/A | F3: =SUM(D3/E3) -> #N/A
A4: Girls | D4: =VLOOKUP(C4,'Girls Baseline Data'!$A$1:$B$23,2,FALSE) -> #N/A | F4: =SUM(D4/E4) -> #N/A
A5: Girls | D5: =VLOOKUP(C5,'Girls Baseline Data'!$A$1:$B$23,2,FALSE) -> #N/A | F5: =SUM(D5/E5) -> #N/A
A6: Girls | D6: =VLOOKUP(C6,'Girls Baseline Data'!$A$1:$B$23,2,FALSE) -> #N/A | F6: =SUM(D6/E6) -> #N/A
A7: Girls | D7: =VLOOKUP(C7,'Girls Baseline Data'!$A$1:$B$23,2,FALSE) -> #N/A | F7: =SUM(D7/E7) -> #N/A
A8: Girls | D8: =VLOOKUP(C8,'Girls Baseline Data'!$A$1:$B$23,2,FALSE) -> #N/A | F8: =SUM(D8/E8) -> #N/A
A9: Girls | D9: =VLOOKUP(C9,'Girls Baseline Data'!$A$1:$B$23,2,FALSE) -> #N/A | F9: =SUM(D9/E9) -> #N/A
A10: Girls | D10: =VLOOKUP(C10,'Girls Baseline Data'!$A$1:$B$23,2,FALSE) -> #N/A | F10: =SUM(D10/E10) -> #N/A
A11: Girls | D11: =VLOOKUP(C11,'Girls Baseline Data'!$A$1:$B$23,2,FALSE) -> #N/A | F11: =SUM(D11/E11) -> #N/A
A12: Girls | D12: =VLOOKUP(C12,'Girls Baseline Data'!$A$1:$B$23,2,FALSE) -> #N/A | F12: =SUM(D12/E12) -> #N/A
A13: Girls | D13: =VLOOKUP(C13,'Girls Baseline Data'!$A$1:$B$23,2,FALSE) -> #N/A | F13: =SUM(D13/E13) -> #N/A
... A200: Girls | D200: =VLOOKUP(C200,'Girls Baseline Data'!$A$1:$B$23,2,FALSE) -> #N/A | F200: =SUM(D200/E200) -> #N/A

Sheet Boys Baseline Data
A1: Class | B1: Baseline | C1: Gender
A2: T01 | B2: 0.0026364583 | C2: Boys
A3: T11 | B3: 0.002758912 | C3: Boys
A4: T12 | B4: 0.0025618056 | C4: Boys
A5: T13 | B5: 0.0026422454 | C5: Boys
A6: T20 | B6: 0.0026099537 | C6: Boys
A7: T21 | B7: 0.0038581019 | C7: Boys
A8: T35 | B8: 0.0034170139 | C8: Boys
A9: T36 | B9: 0.0031584491 | C9: Boys
A10: T37 | B10: 0.0027724537 | C10: Boys
A11: T38 | B11: 0.0026376157 | C11: Boys
A12: T40 | B12: 0.0049884259 | C12: Boys
A13: T41 | B13: 0.0053125 | C13: Boys
... A23: ii-3 | B23: 0.0025034722 | C23: Boys

Sheet Girls Baseline Data
A1: Class | B1: Baseline | C1: Gender
A2: T01 | B2: 0.0030700231 | C2: Girls
A3: T11 | B3: 0.0032282407 | C3: Girls
A4: T12 | B4: 0.003 | C4: Girls
A5: T13 | B5: 0.0028387731 | C5: Girls
A6: T20 | B6: 0.0030482639 | C6: Girls
A7: T21 | B7: 0.005740162 | C7: Girls
A8: T35 | B8: 0.0053710648 | C8: Girls
A9: T36 | B9: 0.0040579861 | C9: Girls
A10: T37 | B10: 0.0039365741 | C10: Girls
A11: T38 | B11: 0.0038021991 | C11: Girls
A12: T40 | B12: 0.0065046296 | C12: Girls
A13: T41 | B13: 0.0065046296 | C13: Girls
... A23: ii-3 | B23: 0.0027790509 | C23: Girls

Sheet NSWPSSA SuggestedQualGuidelines
A1: Gender | B1: Class | C1: Baseline | D1: 8/9 Yrs | E1: 10 Yrs | F1: 11 Yrs | G1: 12/13 Yrs
A2: Boys | B2: T01 | C2: 0.0026364583 | D2: =($C2*D$24) -> 0.009807625 | E2: =($C2*E$24) -> 0.0089903229 | F2: =($C2*$F$24) -> 0.0087003125 | G2: =($C2*$G$24) -> 0.0084103021
A3: Boys | B3: T11 | C3: 0.002758912 | D3: =($C3*D$24) -> 0.010263153 | E3: =($C3*E$24) -> 0.00940789 | F3: =($C3*$F$24) -> 0.0091044097 | G3: =($C3*$G$24) -> 0.0088009294
A4: Boys | B4: T12 | C4: 0.0025618056 | D4: =($C4*D$24) -> 0.0095299167 | E4: =($C4*E$24) -> 0.0087357569 | F4: =($C4*$F$24) -> 0.0084539583 | G4: =($C4*$G$24) -> 0.0081721597
A5: Boys | B5: T13 | C5: 0.0026422454 | D5: =($C5*D$24) -> 0.0098291528 | E5: =($C5*E$24) -> 0.0090100567 | F5: =($C5*$F$24) -> 0.0087194097 | G5: =($C5*$G$24) -> 0.0084287627
A6: Boys | B6: T20 | C6: 0.0026099537 | D6: =($C6*D$24) -> 0.0097090278 | E6: =($C6*E$24) -> 0.0088999421 | F6: =($C6*$F$24) -> 0.0086128472 | G6: =($C6*$G$24) -> 0.0083257523
A7: Boys | B7: T21 | C7: 0.0038581019 | D7: =($C7*D$24) -> 0.014352139 | E7: =($C7*E$24) -> 0.013156127 | F7: =($C7*$F$24) -> 0.012731736 | G7: =($C7*$G$24) -> 0.012307345
A8: Boys | B8: T35 | C8: 0.0034170139 | D8: =($C8*D$24) -> 0.012711292 | E8: =($C8*E$24) -> 0.011652017 | F8: =($C8*$F$24) -> 0.011276146 | G8: =($C8*$G$24) -> 0.010900274
A9: Boys | B9: T36 | C9: 0.0031584491 | D9: =($C9*D$24) -> 0.011749431 | E9: =($C9*E$24) -> 0.010770311 | F9: =($C9*$F$24) -> 0.010422882 | G9: =($C9*$G$24) -> 0.010075453
A10: Boys | B10: T37 | C10: 0.0027724537 | D10: =($C10*D$24) -> 0.010313528 | E10: =($C10*E$24) -> 0.0094540671 | F10: =($C10*$F$24) -> 0.0091490972 | G10: =($C10*$G$24) -> 0.0088441273
A11: Boys | B11: T38 | C11: 0.0026376157 | D11: =($C11*D$24) -> 0.0098119306 | E11: =($C11*E$24) -> 0.0089942697 | F11: =($C11*$F$24) -> 0.0087041319 | G11: =($C11*$G$24) -> 0.0084139942
A12: Boys | B12: T40 | C12: 0.0049884259 | D12: =($C12*D$24) -> 0.018556944 | E12: =($C12*E$24) -> 0.017010532 | F12: =($C12*$F$24) -> 0.016461806 | G12: =($C12*$G$24) -> 0.015913079
A13: Boys | B13: T41 | C13: 0.0053125 | D13: =($C13*D$24) -> 0.0197625 | E13: =($C13*E$24) -> 0.018115625 | F13: =($C13*$F$24) -> 0.01753125 | G13: =($C13*$G$24) -> 0.016946875
... A23: Boys | B23: ii-3 | C23: 0.0025034722 | D23: =($C23*D$24) -> 0.0093129167 | E23: =($C23*E$24) -> 0.0085368403 | F23: =($C23*$F$24) -> 0.0082614583 | G23: =($C23*$G$24) -> 0.0079860764
C24: Multiplier | D24: 3.72 | E24: 3.41 | F24: 3.3 | G24: 3.19
A26: Gender | B26: Class | C26: Baseline | D26: 8/9 Yrs | E26: 10 Yrs | F26: 11 Yrs | G26: 12/13 Yrs
A27: Girls | B27: T01 | C27: 0.0030700231 | D27: =SUM($C27*D$49) -> 0.010683681 | E27: =SUM($C27*E$49) -> 0.0089030671 | F27: =SUM($C27*F$49) -> 0.0085960648 | G27: =SUM($C27*G$49) -> 0.0082890625
A28: Girls | B28: T11 | C28: 0.0032282407 | D28: =SUM($C28*D$49) -> 0.011234278 | E28: =SUM($C28*E$49) -> 0.0093618981 | F28: =SUM($C28*F$49) -> 0.0090390741 | G28: =SUM($C28*G$49) -> 0.00871625
A29: Girls | B29: T12 | C29: 0.003 | D29: =SUM($C29*D$49) -> 0.01044 | E29: =SUM($C29*E$49) -> 0.0087 | F29: =SUM($C29*F$49) -> 0.0084 | G29: =SUM($C29*G$49) -> 0.0081
A30: Girls | B30: T13 | C30: 0.0028387731 | D30: =SUM($C30*D$49) -> 0.0098789306 | E30: =SUM($C30*E$49) -> 0.0082324421 | F30: =SUM($C30*F$49) -> 0.0079485648 | G30: =SUM($C30*G$49) -> 0.0076646875
A31: Girls | B31: T20 | C31: 0.0030482639 | D31: =SUM($C31*D$49) -> 0.010607958 | E31: =SUM($C31*E$49) -> 0.0088399653 | F31: =SUM($C31*F$49) -> 0.0085351389 | G31: =SUM($C31*G$49) -> 0.0082303125
A32: Girls | B32: T21 | C32: 0.005740162 | D32: =SUM($C32*D$49) -> 0.019975764 | E32: =SUM($C32*E$49) -> 0.01664647 | F32: =SUM($C32*F$49) -> 0.016072454 | G32: =SUM($C32*G$49) -> 0.015498438
A33: Girls | B33: T35 | C33: 0.0053710648 | D33: =SUM($C33*D$49) -> 0.018691306 | E33: =SUM($C33*E$49) -> 0.015576088 | F33: =SUM($C33*F$49) -> 0.015038981 | G33: =SUM($C33*G$49) -> 0.014501875
A34: Girls | B34: T36 | C34: 0.0040579861 | D34: =SUM($C34*D$49) -> 0.014121792 | E34: =SUM($C34*E$49) -> 0.01176816 | F34: =SUM($C34*F$49) -> 0.011362361 | G34: =SUM($C34*G$49) -> 0.010956563
A35: Girls | B35: T37 | C35: 0.0039365741 | D35: =SUM($C35*D$49) -> 0.013699278 | E35: =SUM($C35*E$49) -> 0.011416065 | F35: =SUM($C35*F$49) -> 0.011022407 | G35: =SUM($C35*G$49) -> 0.01062875
A36: Girls | B36: T38 | C36: 0.0038021991 | D36: =SUM($C36*D$49) -> 0.013231653 | E36: =SUM($C36*E$49) -> 0.011026377 | F36: =SUM($C36*F$49) -> 0.010646157 | G36: =SUM($C36*G$49) -> 0.010265938
A37: Girls | B37: T40 | C37: 0.0065046296 | D37: =SUM($C37*D$49) -> 0.022636111 | E37: =SUM($C37*E$49) -> 0.018863426 | F37: =SUM($C37*F$49) -> 0.018212963 | G37: =SUM($C37*G$49) -> 0.0175625
A38: Girls | B38: T41 | C38: 0.0065046296 | D38: =SUM($C38*D$49) -> 0.022636111 | E38: =SUM($C38*E$49) -> 0.018863426 | F38: =SUM($C38*F$49) -> 0.018212963 | G38: =SUM($C38*G$49) -> 0.0175625
... A48: Girls | B48: ii-3 | C48: 0.0027790509 | D48: =SUM($C48*D$49) -> 0.0096710972 | E48: =SUM($C48*E$49) -> 0.0080592477 | F48: =SUM($C48*F$49) -> 0.0077813426 | G48: =SUM($C48*G$49) -> 0.0075034375
C49: Multiplier | D49: 3.48 | E49: 2.9 | F49: 2.8 | G49: 2.7
